BEGIN:VCALENDAR
VERSION:2.0
PRODID:-//The 28th Pennsylvania Volunteer Infantry Co.C - ECPv6.15.20//NONSGML v1.0//EN
CALSCALE:GREGORIAN
METHOD:PUBLISH
X-ORIGINAL-URL:https://28thpvi.net
X-WR-CALDESC:Events for The 28th Pennsylvania Volunteer Infantry Co.C
REFRESH-INTERVAL;VALUE=DURATION:PT1H
X-Robots-Tag:noindex
X-PUBLISHED-TTL:PT1H
BEGIN:VTIMEZONE
TZID:UTC
BEGIN:STANDARD
TZOFFSETFROM:+0000
TZOFFSETTO:+0000
TZNAME:UTC
DTSTART:20250101T000000
END:STANDARD
END:VTIMEZONE
BEGIN:VEVENT
DTSTART;TZID=UTC:20260510T090000
DTEND;TZID=UTC:20260510T170000
DTSTAMP:20260422T130732
CREATED:20250430T140323Z
LAST-MODIFIED:20260209T131447Z
UID:6736-1778403600-1778432400@28thpvi.net
SUMMARY:Cedar Hill Flag Placement
DESCRIPTION:Saturday May 10\, 9am\nCedar Hill Cemetery (Flag Placement)\n5700 Frankford Ave\, Philadelphia\, PA 19135
URL:https://28thpvi.net/event/cedar-hill-flag-placement/
END:VEVENT
BEGIN:VEVENT
DTSTART;TZID=UTC:20260515T080000
DTEND;TZID=UTC:20260517T170000
DTSTAMP:20260422T130732
CREATED:20260209T132020Z
LAST-MODIFIED:20260209T132020Z
UID:7211-1778832000-1779037200@28thpvi.net
SUMMARY:165th Battle of Bull Run
DESCRIPTION:MAX EFFORT GUARD EVENT
URL:https://28thpvi.net/event/165th-battle-of-bull-run/
END:VEVENT
END:VCALENDAR