BEGIN:VCALENDAR
VERSION:2.0
PRODID:-//The 28th Pennsylvania Volunteer Infantry Co.C - ECPv6.15.20//NONSGML v1.0//EN
CALSCALE:GREGORIAN
METHOD:PUBLISH
X-WR-CALNAME:The 28th Pennsylvania Volunteer Infantry Co.C
X-ORIGINAL-URL:https://28thpvi.net
X-WR-CALDESC:Events for The 28th Pennsylvania Volunteer Infantry Co.C
REFRESH-INTERVAL;VALUE=DURATION:PT1H
X-Robots-Tag:noindex
X-PUBLISHED-TTL:PT1H
BEGIN:VTIMEZONE
TZID:UTC
BEGIN:STANDARD
TZOFFSETFROM:+0000
TZOFFSETTO:+0000
TZNAME:UTC
DTSTART:20250101T000000
END:STANDARD
END:VTIMEZONE
BEGIN:VEVENT
DTSTART;TZID=UTC:20260515T080000
DTEND;TZID=UTC:20260517T170000
DTSTAMP:20260424T125354
CREATED:20260209T132020Z
LAST-MODIFIED:20260209T132020Z
UID:7211-1778832000-1779037200@28thpvi.net
SUMMARY:165th Battle of Bull Run
DESCRIPTION:MAX EFFORT GUARD EVENT
URL:https://28thpvi.net/event/165th-battle-of-bull-run/
END:VEVENT
BEGIN:VEVENT
DTSTART;TZID=UTC:20260510T090000
DTEND;TZID=UTC:20260510T170000
DTSTAMP:20260424T125354
CREATED:20250430T140323Z
LAST-MODIFIED:20260209T131447Z
UID:6736-1778403600-1778432400@28thpvi.net
SUMMARY:Cedar Hill Flag Placement
DESCRIPTION:Saturday May 10\, 9am\nCedar Hill Cemetery (Flag Placement)\n5700 Frankford Ave\, Philadelphia\, PA 19135
URL:https://28thpvi.net/event/cedar-hill-flag-placement/
END:VEVENT
BEGIN:VEVENT
DTSTART;TZID=UTC:20260424T080000
DTEND;TZID=UTC:20260426T170000
DTSTAMP:20260424T125354
CREATED:20260209T132121Z
LAST-MODIFIED:20260209T132121Z
UID:7212-1777017600-1777222800@28thpvi.net
SUMMARY:Camp Gieger- Battle Reenactment
DESCRIPTION:
URL:https://28thpvi.net/event/camp-gieger-battle-reenactment/
END:VEVENT
BEGIN:VEVENT
DTSTART;TZID=UTC:20260411T080000
DTEND;TZID=UTC:20260411T170000
DTSTAMP:20260424T125354
CREATED:20260209T131813Z
LAST-MODIFIED:20260209T131813Z
UID:7210-1775894400-1775926800@28thpvi.net
SUMMARY:Tramps Camp- 28th PA Infantry & Artillery Drill
DESCRIPTION:More details to follow
URL:https://28thpvi.net/event/tramps-camp-28th-pa-infantry-artillery-drill/
END:VEVENT
BEGIN:VEVENT
DTSTART;TZID=UTC:20260321T080000
DTEND;TZID=UTC:20260321T170000
DTSTAMP:20260424T125354
CREATED:20260209T131659Z
LAST-MODIFIED:20260209T131659Z
UID:7209-1774080000-1774112400@28thpvi.net
SUMMARY:Mifflin Guard School of the Soldier- Fort Mifflin
DESCRIPTION:Moew Details to follow.
URL:https://28thpvi.net/event/mifflin-guard-school-of-the-soldier-fort-mifflin/
LOCATION:Fort Mifflin\, 6400 Hog Island Rd\, Philadelphia\, PA\, 19153\, United States
END:VEVENT
BEGIN:VEVENT
DTSTART;TZID=UTC:20260131T120000
DTEND;TZID=UTC:20260131T150000
DTSTAMP:20260424T125354
CREATED:20180118T133618Z
LAST-MODIFIED:20260209T140734Z
UID:6419-1769860800-1769871600@28thpvi.net
SUMMARY:Mifflin Guard Meeting
DESCRIPTION:This meeting helps plan out the Guard schedule for the year!
URL:https://28thpvi.net/event/mifflin-gaurd-meeting/
LOCATION:Lawrenceville Armory\, 151 Eggert Crossing Rd\, Lawrenceville\, NJ\, 08648
END:VEVENT
BEGIN:VEVENT
DTSTART;TZID=UTC:20260124T120000
DTEND;TZID=UTC:20260124T170000
DTSTAMP:20260424T125354
CREATED:20170814T172041Z
LAST-MODIFIED:20260209T140634Z
UID:6274-1769256000-1769274000@28thpvi.net
SUMMARY:28th PA Association Meeting
DESCRIPTION:Uniform- none\nAddress- TBD
URL:https://28thpvi.net/event/28th-pa-association-meeting/
END:VEVENT
BEGIN:VEVENT
DTSTART;VALUE=DATE:20260526
DTEND;VALUE=DATE:20260527
DTSTAMP:20260424T125354
CREATED:20180117T174059Z
LAST-MODIFIED:20260209T131346Z
UID:6392-1779753600-1779839999@28thpvi.net
SUMMARY:Memorial Day Ceremonies **** MAX Effort****
DESCRIPTION:Schedule for Memorial Day Weekend\n\nSaturday May 24\, 2025 11am\nWoolsey Park\n221 Washington Pennington Rd.\n\nTitusville NJ \n\nCap. Henry Woolsey 5th NJ veteran being honored\, killed at Petersburg\n\n(A Paid Ceremony for the Camp)\n\nMonday May 26\, \n10am Lawnview Cemetery\n500 Huntingdon Pike\nRockledge\, PA 19406\n\n12pm Independence Hall Ceremony\n\n1pm Christ’s Church Ceremony
URL:https://28thpvi.net/event/memorial-day-ceremonies/
END:VEVENT
END:VCALENDAR