BEGIN:VCALENDAR
VERSION:2.0
PRODID:-//The 28th Pennsylvania Volunteer Infantry Co.C - ECPv6.15.20//NONSGML v1.0//EN
CALSCALE:GREGORIAN
METHOD:PUBLISH
X-ORIGINAL-URL:https://28thpvi.net
X-WR-CALDESC:Events for The 28th Pennsylvania Volunteer Infantry Co.C
REFRESH-INTERVAL;VALUE=DURATION:PT1H
X-Robots-Tag:noindex
X-PUBLISHED-TTL:PT1H
BEGIN:VTIMEZONE
TZID:UTC
BEGIN:STANDARD
TZOFFSETFROM:+0000
TZOFFSETTO:+0000
TZNAME:UTC
DTSTART:20250101T000000
END:STANDARD
END:VTIMEZONE
BEGIN:VEVENT
DTSTART;VALUE=DATE:20260607
DTEND;VALUE=DATE:20260608
DTSTAMP:20260424T112238
CREATED:20250430T140437Z
LAST-MODIFIED:20260209T130829Z
UID:6738-1780790400-1780876799@28thpvi.net
SUMMARY:West Rockhill Living History
DESCRIPTION:More details to follow \nPaid Event
URL:https://28thpvi.net/event/west-rockhill-living-history/
END:VEVENT
END:VCALENDAR